BEGIN:VCALENDAR
VERSION:2.0
PRODID:-//eventon.com NONSGML v1.0//EN
BEGIN:VEVENT
UID:69e8950ad5475
DTSTAMP:20260422T112946
DTSTART:20250102
DTEND:20250117
TZID:Europe/Rome
LOCATION:
SUMMARY:DAKAR 2025
DESCRIPTION: La 47esima edizione del rally Dakar torna in Arabia Saudita. Il rally più estremo del mondo si svolgerà anche quest&#8217;anno in Arabia Saudita dal 03 al 17 gennaio 2025. Informazioni su www.dakar.com\nhttps://trasportale.it/events/dakar-2025/
URL:https://trasportale.it/events/dakar-2025/
END:VEVENT
END:VCALENDAR