BEGIN:VCALENDAR
VERSION:2.0
PRODID:-//eventon.com NONSGML v1.0//EN
BEGIN:VEVENT
UID:69eca78446ee3
DTSTAMP:20260425T133740
DTSTART:20240318
DTEND:20240319
TZID:Europe/Rome
LOCATION:
SUMMARY:IT’S ALL RETAIL 2024
DESCRIPTION: Il 19 Marzo 2024 al NH Congress Centre di Milano torna la nuova edizione della mostra convegno IT’S ALL RETAIL dedicata alle ultime tendenze e alle soluzioni e tecnologie emergenti che stanno ridefinendo il modo in cui facciamo shopping\,  gestiamo i punti vendita e creiamo esperienze coinvolgenti per i nostri[..]\nhttps://trasportale.it/events/its-all-retail-2024/
URL:https://trasportale.it/events/its-all-retail-2024/
END:VEVENT
END:VCALENDAR