BEGIN:VCALENDAR
VERSION:2.0
PRODID:-//eventon.com NONSGML v1.0//EN
BEGIN:VEVENT
UID:69ecb9bf14ed3
DTSTAMP:20260425T145527
DTSTART:20240916
DTEND:20240922
TZID:Europe/Rome
LOCATION:
SUMMARY:IAA TRANSPORTATION 2024
DESCRIPTION: Dal 17 al 22 Settembre\,  con anteprima alla stampa prevista per il 16 Settembre\,  appuntamento ad Hannover con IAA TRANSPORTATION 2024\,  la manifestazione dedicata alla mobilità commerciale\,  focalizzando la sua offerta su logistica\,  veicoli commerciali\,  autobus e settore del trasporto in generale. Maggiori informazioni: www.iaa-transportation.com\nhttps://trasportale.it/events/iaa-transportation-2024/
URL:https://trasportale.it/events/iaa-transportation-2024/
END:VEVENT
END:VCALENDAR