BEGIN:VCALENDAR
VERSION:2.0
PRODID:-//eventon.com NONSGML v1.0//EN
BEGIN:VEVENT
UID:69e8dacf45fc8
DTSTAMP:20260422T162727
DTSTART:20230614
DTEND:20230615
TZID:Europe/Rome
LOCATION:MUSEO NICOLIS Viale Postumia 71
SUMMARY:ZEROGRADI 2023
DESCRIPTION: Giovedì 15 GIUGNO 2023 MUSEO NICOLIS &#8211; Villafranca di Verona (Viale Postumia 71) L&#8217;happening dedicato alla logistica a temperatura controllata con una giornata di lavoro costituita da diversi momenti di confronto e approfondimento su tecnologie\,  normative e proposte del mondo a zero gradi\,  intervallati da un networking lunch e dalla[..]\nhttps://trasportale.it/events/zerogradi-2023/
URL:https://trasportale.it/events/zerogradi-2023/
END:VEVENT
END:VCALENDAR