BEGIN:VCALENDAR
VERSION:2.0
PRODID:-//eventon.com NONSGML v1.0//EN
BEGIN:VEVENT
UID:69e7d55e1c85a
DTSTAMP:20260421T215158
DTSTART:20230503
DTEND:20230508
TZID:Pacific/Midway
LOCATION:
SUMMARY:Samoter 2023
DESCRIPTION: Il salone dedicato al mondo delle macchine per costruzioni si terrà dal 3 al 7 maggio a Verona. Informazioni su www.samoter.it\nhttps://trasportale.it/events/samoter-2023/
URL:https://trasportale.it/events/samoter-2023/
END:VEVENT
END:VCALENDAR